BEGIN:VCALENDAR
PRODID:-//eluceo/ical//2.0/EN
VERSION:2.0
CALSCALE:GREGORIAN
BEGIN:VEVENT
UID:5c83a89f640b30e28c86d53a29f40748
DTSTAMP:20260420T141515Z
SUMMARY:Brazina Doc Film at 1:30
DESCRIPTION:Jewish Federation of Greater Naples\nCommunity Calendar\nhttps:
 //jewishnaples.org/calendar/brazina-doc-film-at-130-1740433142\n\nDoc Film
DTSTART;TZID=America/New_York:20260414T133000
DTEND;TZID=America/New_York:20260414T153000
END:VEVENT
END:VCALENDAR
