BEGIN:VCALENDAR
PRODID:-//eluceo/ical//2.0/EN
VERSION:2.0
CALSCALE:GREGORIAN
BEGIN:VEVENT
UID:37bf649f31431dccab450fdcf2e5b055
DTSTAMP:20260423T023556Z
SUMMARY:Brain Teasers
DESCRIPTION:Jewish Federation of Greater Naples\nCommunity Calendar\nhttps:
 //jewishnaples.org/calendar/brain-teasers-1717527414\n\nDo you like Brain 
 Teasers\, Word Searches and Timed Games?\n\nJoin us for brain teasers!\n\n
 Win fun prizes!\n\nEnjoy light refreshments to cool off from the Summer He
 at.\n\nFriday August 23 at 11:00 am.
DTSTART;TZID=America/New_York:20240823T110000
DTEND;TZID=America/New_York:20240823T120000
END:VEVENT
END:VCALENDAR
