BEGIN:VCALENDAR
PRODID:-//eluceo/ical//2.0/EN
VERSION:2.0
CALSCALE:GREGORIAN
BEGIN:VEVENT
UID:303a2621577f7bb22d8902837b29b94b
DTSTAMP:20260422T095223Z
SUMMARY:Bingo
DESCRIPTION:Jewish Federation of Greater Naples\nCommunity Calendar\nhttps:
 //jewishnaples.org/calendar/bingo-1712400940\n\nFUN Prizes will be given o
 ut to the Bingo winners.\nFree program for all members\nWednesday\, June 5
  from 10:00-11:30 am\nCome meet new friends and win fun prizes!\nIf you ha
 ve a prize\, book\, gift certificate\, that you want to donate\, please br
 ing it.\nNina Iser Jewish Cultural Center
DTSTART;TZID=America/New_York:20240605T100000
DTEND;TZID=America/New_York:20240605T113000
END:VEVENT
END:VCALENDAR
