BEGIN:VCALENDAR
PRODID:-//eluceo/ical//2.0/EN
VERSION:2.0
CALSCALE:GREGORIAN
BEGIN:VEVENT
UID:634db6c32a8e0f9d0b1c74973ccb94f6
DTSTAMP:20260420T044413Z
SUMMARY:Billy Jonas Preschool Community Concert at TS
DESCRIPTION:Jewish Federation of Greater Naples\nCommunity Calendar\nhttps:
 //jewishnaples.org/calendar/billy-jonas-preschool-community-concert-153996
 3329\n\nTemple Shalom Preschool invites all preschool aged children and th
 eir families to a free concert featuring Billy Jonas. For 25 years\, Billy
  Jonas -- performer\, singer-songwriter\, composer\, multi-instrumentalist
 \, and educator -- has perfected the art of the neo-tribal hootenanny* wit
 h audiences around the globe. Using voice\, guitar\, and industrial re-per
 cussion\,* each concert is a soul-spelunking\, heart healing\, joy-filled 
 journey
DTSTART;TZID=America/New_York:20190128T130000
DTEND;TZID=America/New_York:20190128T140000
END:VEVENT
END:VCALENDAR
