BEGIN:VCALENDAR
PRODID:-//eluceo/ical//2.0/EN
VERSION:2.0
CALSCALE:GREGORIAN
BEGIN:VEVENT
UID:5d7b201d11cb28e545ebe0b129073ba7
DTSTAMP:20260423T122423Z
SUMMARY:Big Speaker- CJD Program
DESCRIPTION:Jewish Federation of Greater Naples\nCommunity Calendar\nhttps:
 //jewishnaples.org/calendar/big-speaker-cjd-program\n\nCJD is working on t
 his program.\nStay tuned for more details
DTSTART;TZID=America/New_York:20210124T140000
DTEND;TZID=America/New_York:20210124T150000
END:VEVENT
END:VCALENDAR
