BEGIN:VCALENDAR
PRODID:-//eluceo/ical//2.0/EN
VERSION:2.0
CALSCALE:GREGORIAN
BEGIN:VEVENT
UID:877edb991d8a210a773ce8b5d0256075
DTSTAMP:20260423T033954Z
SUMMARY:Beth tikvah's Speakers' Series #2\,  Stuart Mest
DESCRIPTION:Jewish Federation of Greater Naples\nCommunity Calendar\nhttps:
 //jewishnaples.org/calendar/beth-tikvahs-speakers-series-2--stuart-mest-16
 89602688\n\nBeth Tikvah Speakers&#039\; Series #2 featuring Stuart Mest.  
 He will be speaking about &quot\;Displaced Persons Camps following WWII&qu
 ot\;.  Cookies and coffee with follow his talk.  There is a $8.00 fee for 
 non-members.  Registration is recommended.
DTSTART;TZID=America/New_York:20231219T193000
DTEND;TZID=America/New_York:20231219T210000
END:VEVENT
END:VCALENDAR
