BEGIN:VCALENDAR
PRODID:-//eluceo/ical//2.0/EN
VERSION:2.0
CALSCALE:GREGORIAN
BEGIN:VEVENT
UID:30f8b7c0802b146d69982bf601fb7db6
DTSTAMP:20260424T063002Z
SUMMARY:Beth Tikvah's Speaker Series #3 TBD
DESCRIPTION:Jewish Federation of Greater Naples\nCommunity Calendar\nhttps:
 //jewishnaples.org/calendar/beth-tikvahs-speaker-series-3-tbd-1689602912\n
 \nBeth Tikvah continues our Speaker Series with #3 TBD
DTSTART;TZID=America/New_York:20240109T193000
DTEND;TZID=America/New_York:20240109T210000
END:VEVENT
END:VCALENDAR
