BEGIN:VCALENDAR
PRODID:-//eluceo/ical//2.0/EN
VERSION:2.0
CALSCALE:GREGORIAN
BEGIN:VEVENT
UID:ab3a116533032c8d598e4fe1891f508f
DTSTAMP:20260422T215758Z
SUMMARY:Beth Tikvah's Scholar in Residence
DESCRIPTION:Jewish Federation of Greater Naples\nCommunity Calendar\nhttps:
 //jewishnaples.org/calendar/beth-tikvahs-scholar-in-residence-1689613287\n
 \nBeth Tikvah of Naples presents our Scholar in Residence weekend.  Detail
 s to follow.
DTSTART;TZID=America/New_York:20240322T181500
DTEND;TZID=America/New_York:20240324T170000
END:VEVENT
END:VCALENDAR
