BEGIN:VCALENDAR
PRODID:-//eluceo/ical//2.0/EN
VERSION:2.0
CALSCALE:GREGORIAN
BEGIN:VEVENT
UID:28a24ef42744212c22623513bebf66d7
DTSTAMP:20260420T103601Z
SUMMARY:Beth Tikvah's New Members Shabbat
DESCRIPTION:Jewish Federation of Greater Naples\nCommunity Calendar\nhttps:
 //jewishnaples.org/calendar/beth-tikvahs-new-members-shabbat-1689609462\n\
 nBeth Tikvah is happy to honor all of those new members who have joined us
  in the past year.  We will celebrate with them at services.  Following se
 rvices there will be a special Kiddush luncheon.
DTSTART;TZID=America/New_York:20240224T091500
DTEND;TZID=America/New_York:20240224T133000
END:VEVENT
END:VCALENDAR
