BEGIN:VCALENDAR
PRODID:-//eluceo/ical//2.0/EN
VERSION:2.0
CALSCALE:GREGORIAN
BEGIN:VEVENT
UID:19e5ef2bf9aa3bea81139c81e1b461d6
DTSTAMP:20260423T233730Z
SUMMARY:Beth Tikvah's Annual Meeting
DESCRIPTION:Jewish Federation of Greater Naples\nCommunity Calendar\nhttps:
 //jewishnaples.org/calendar/beth-tikvahs-annual-meeting-1689613539\n\nBeth
  Tikvah of Naples presents our Scholar in Residence weekend.  Details to f
 ollow.
DTSTART;TZID=America/New_York:20240324T160000
DTEND;TZID=America/New_York:20240324T170000
END:VEVENT
END:VCALENDAR
