BEGIN:VCALENDAR
PRODID:-//eluceo/ical//2.0/EN
VERSION:2.0
CALSCALE:GREGORIAN
BEGIN:VEVENT
UID:c9d2ec950f50e444051969ce740cae56
DTSTAMP:20260420T163732Z
SUMMARY:Beth Tikvah Special Shabbat dinner &speaker
DESCRIPTION:Jewish Federation of Greater Naples\nCommunity Calendar\nhttps:
 //jewishnaples.org/calendar/beth-tikvah-special-shabbat-dinner-speaker-162
 5024669\n\nShabbat dinner and speaker
DTSTART;TZID=America/New_York:20220218T180000
DTEND;TZID=America/New_York:20220218T210000
END:VEVENT
END:VCALENDAR
