BEGIN:VCALENDAR
PRODID:-//eluceo/ical//2.0/EN
VERSION:2.0
CALSCALE:GREGORIAN
BEGIN:VEVENT
UID:49602c0bf280eb56a8f8a1f2c9356325
DTSTAMP:20260420T063339Z
SUMMARY:Beth Tikvah Speakers
DESCRIPTION:Jewish Federation of Greater Naples\nCommunity Calendar\nhttps:
 //jewishnaples.org/calendar/beth-tikvah-speakers-1691160188\n\nJoyce and J
 une will speak on "Five Hot Spots in the World" for Beth Tikvah of Naples.
   The event is free to members with a fee of $8.00 for non-members.  Coffe
 e and cookies will be served after their talk.
DTSTART;TZID=America/New_York:20240111T193000
DTEND;TZID=America/New_York:20240111T210000
END:VEVENT
END:VCALENDAR
