BEGIN:VCALENDAR
PRODID:-//eluceo/ical//2.0/EN
VERSION:2.0
CALSCALE:GREGORIAN
BEGIN:VEVENT
UID:de7462e9aadaea7966c926baf3e0d83d
DTSTAMP:20260424T045125Z
SUMMARY:Beth Tikvah Speaker Series #6
DESCRIPTION:Jewish Federation of Greater Naples\nCommunity Calendar\nhttps:
 //jewishnaples.org/calendar/beth-tikvah-speaker-series-6-1689612655\n\nBet
 h Tikvah continues our Speaker Series with #6\, Sam Geist discussing AI an
 d Technology.  Do join us for this slightly frightening talk explaining wh
 at we can expect in our not so distant future.  Reservations are recommend
 ed.  Drinks and cookies will be available following Sam&#039\;s talk.  Mem
 bers are free\, non-members $8.00
DTSTART;TZID=America/New_York:20240312T193000
DTEND;TZID=America/New_York:20240312T213000
END:VEVENT
END:VCALENDAR
