BEGIN:VCALENDAR
PRODID:-//eluceo/ical//2.0/EN
VERSION:2.0
CALSCALE:GREGORIAN
BEGIN:VEVENT
UID:a5b4867621e006f0c47d784332f55e2a
DTSTAMP:20260422T122528Z
SUMMARY:Beth Tikvah Scholar in Residence
DESCRIPTION:Jewish Federation of Greater Naples\nCommunity Calendar\nhttps:
 //jewishnaples.org/calendar/beth-tikvah-scholar-in-residence\n\nBeth Tikva
 h\n\nScholar in Residence Weekend
DTSTART;TZID=America/New_York:20180309T090000
DTEND;TZID=America/New_York:20180311T120000
END:VEVENT
END:VCALENDAR
