BEGIN:VCALENDAR
PRODID:-//eluceo/ical//2.0/EN
VERSION:2.0
CALSCALE:GREGORIAN
BEGIN:VEVENT
UID:1ab58a6c7c3ceb6383154458997cfd0c
DTSTAMP:20260420T170453Z
SUMMARY:Beth Tikvah Naples Jewish Film Festival
DESCRIPTION:Jewish Federation of Greater Naples\nCommunity Calendar\nhttps:
 //jewishnaples.org/calendar/beth-tikvah-naples-jewish-film-festival\n\nBet
 h Tikvah\n\nNaples Jewish Film Festival\n\n 
DTSTART;TZID=America/New_York:20180325T193000
DTEND;TZID=America/New_York:20180325T213000
END:VEVENT
END:VCALENDAR
