BEGIN:VCALENDAR
PRODID:-//eluceo/ical//2.0/EN
VERSION:2.0
CALSCALE:GREGORIAN
BEGIN:VEVENT
UID:703933b909e1a15db377c5a125517569
DTSTAMP:20260423T123527Z
SUMMARY:Beth Tikvah Honors our Volunteers
DESCRIPTION:Jewish Federation of Greater Naples\nCommunity Calendar\nhttps:
 //jewishnaples.org/calendar/beth-tikvah-honors-our-volunteers-1689603205\n
 \nOn this special Shabbat Beth Tikvah will honor our many volunteers.  We 
 would not exist without the amazing and loving work by our volunteers.  Co
 me help us acknowledge the work and joy of all of our helpers!  Services w
 ill be followed by a special Kiddish luncheon
DTSTART;TZID=America/New_York:20240113T091500
DTEND;TZID=America/New_York:20240113T131500
END:VEVENT
END:VCALENDAR
