BEGIN:VCALENDAR
PRODID:-//eluceo/ical//2.0/EN
VERSION:2.0
CALSCALE:GREGORIAN
BEGIN:VEVENT
UID:691b041b83e3b66807877be2aefaf677
DTSTAMP:20260420T122703Z
SUMMARY:Beth Tikvah Hanukkah Party
DESCRIPTION:Jewish Federation of Greater Naples\nCommunity Calendar\nhttps:
 //jewishnaples.org/calendar/beth-tikvah-hanukkah-party-1687449786\n\nBeth 
 Tikvah is celebrating Chanukkah with a party!  Beginning at 5:30pm come an
 d enjoy Jewish geography!  Bring a family artifact to talk about and see w
 hat fun we can have.  Coffee and hamentaschen to munch on!  Free to member
 s of Beth Tikvah.  $18.00 to non-members.
DTSTART;TZID=America/New_York:20231210T000000
DTEND;TZID=America/New_York:20231210T000000
END:VEVENT
END:VCALENDAR
