BEGIN:VCALENDAR
PRODID:-//eluceo/ical//2.0/EN
VERSION:2.0
CALSCALE:GREGORIAN
BEGIN:VEVENT
UID:1cfddabc96fc7a082c93b6a64f848999
DTSTAMP:20260423T042057Z
SUMMARY:BeAware Training Program
DESCRIPTION:Jewish Federation of Greater Naples\nCommunity Calendar\nhttps:
 //jewishnaples.org/calendar/beaware-training-program-1720643121\n\nThursda
 y\, July 18\n\n1:00-5:00 PM\n\nThere are two training classes during this 
 time.\n\n \n\n \n\nBeAware: Introduction to situational awareness traini
 ng\n\nand\n\nCountering Active Threat Training\n\n 
DTSTART;TZID=America/New_York:20240718T130000
DTEND;TZID=America/New_York:20240718T170000
END:VEVENT
END:VCALENDAR
