BEGIN:VCALENDAR
PRODID:-//eluceo/ical//2.0/EN
VERSION:2.0
CALSCALE:GREGORIAN
BEGIN:VEVENT
UID:d715dd1305173d7a56d880e9ceb792d9
DTSTAMP:20260424T033610Z
SUMMARY:Beading Workshop
DESCRIPTION:Jewish Federation of Greater Naples\nCommunity Calendar\nhttps:
 //jewishnaples.org/calendar/beading-workshop-1713472773\n\nJoin us on June
  20 from 12:00-3:00 pm for a make-it-take-it Jewelry Workshop.\nVarious be
 ading patterns and combinations bead colors\, sizes and shapes will be dem
 onstrated.\nDesign the necklace you’ll wear home and learn the basics fo
 r creating beautiful\, hand-beaded necklaces.\nA wide variety of beads and
  all other supplies are provided.\nTo register contact Carol Hirsch at chi
 rsch1951@gmail.com.\nBring cash or check in the amount of $25.00 to pay fo
 r supplies.
DTSTART;TZID=America/New_York:20240620T120000
DTEND;TZID=America/New_York:20240620T150000
END:VEVENT
END:VCALENDAR
