BEGIN:VCALENDAR
PRODID:-//eluceo/ical//2.0/EN
VERSION:2.0
CALSCALE:GREGORIAN
BEGIN:VEVENT
UID:1007ea5d92d0987b0966ea77974ec94d
DTSTAMP:20260423T231039Z
SUMMARY:Beading for Betterment
DESCRIPTION:Jewish Federation of Greater Naples\nCommunity Calendar\nhttps:
 //jewishnaples.org/calendar/beading-for-betterment-1723147562\n\nGreat Opp
 ortunity for Fun and Giving with Beading for Betterment\n\nFor several yea
 rs\, the Beading for Betterment project has been providing custom made spe
 cial necklaces to be given to children at the Guadalupe Center in Immokale
 e. They are distributed to children there so that they have a Mother’s D
 ay gift to give to their mother\, grandmother\, or special woman in their 
 life. In addition to the children at the Guadalupe Center\, necklaces have
  been distributed to children who participate in...
DTSTART;TZID=America/New_York:20250325T123000
DTEND;TZID=America/New_York:20250325T153000
END:VEVENT
END:VCALENDAR
