BEGIN:VCALENDAR
PRODID:-//eluceo/ical//2.0/EN
VERSION:2.0
CALSCALE:GREGORIAN
BEGIN:VEVENT
UID:0a8d3c847c0d23dac9bb2c78beb6b951
DTSTAMP:20260424T073953Z
SUMMARY:Beading Buddies Nov 13
DESCRIPTION:Jewish Federation of Greater Naples\nCommunity Calendar\nhttps:
 //jewishnaples.org/calendar/beading-buddies-nov-13-1752686271\n\nFor over 
 ten years the Beading Buddies project has provided beaded necklaces for ch
 ildren to give as gifts for special holidays. This is a joint project of T
 emple Shalom and the Jewish Federation of Greater Naples. \n\n     
        For Temple Shalom\, the necklaces are given to children at th
 e Guadalupe Center to give at Mother’s Day. Thanks to the hard work of a
  great team of beaders\, this year we provided 720 necklaces. \n\n   
          For the Jewish Federation\, the ...
DTSTART;TZID=America/New_York:20251113T123000
DTEND;TZID=America/New_York:20251113T153000
END:VEVENT
END:VCALENDAR
