BEGIN:VCALENDAR
PRODID:-//eluceo/ical//2.0/EN
VERSION:2.0
CALSCALE:GREGORIAN
BEGIN:VEVENT
UID:694828382b4b967d2b2314887401159e
DTSTAMP:20260422T230056Z
SUMMARY:Beading Buddies July
DESCRIPTION:Jewish Federation of Greater Naples\nCommunity Calendar\nhttps:
 //jewishnaples.org/calendar/beading-buddies-july-1748859751\n\nBEADING BUD
 DIES\n\nBy Carol Hirsch\n\nThe Beading Buddies have been making beaded jew
 elry for local projects sponsored by Temple Shalom and the Jewish Federati
 on of Greater Naples. We donate handmade jewelry\nto the children of the G
 uadalupe Center in Immokalee for Mother’s Day gifts and to the Shop with
  a Sheriff for Christmas.\nAll are welcome to attend our sessions held at 
 the Nina Iser Jewish Cultural Center. There is no charge if you bring your
  own supplies. Supplies are provided for a...
DTSTART;TZID=America/New_York:20250710T100000
DTEND;TZID=America/New_York:20250710T140000
END:VEVENT
END:VCALENDAR
