BEGIN:VCALENDAR
PRODID:-//eluceo/ical//2.0/EN
VERSION:2.0
CALSCALE:GREGORIAN
BEGIN:VEVENT
UID:e8844139b102ba0d0a153a1ca46a1ed8
DTSTAMP:20260423T024021Z
SUMMARY:Beading Buddies\, Feb 18
DESCRIPTION:Jewish Federation of Greater Naples\nCommunity Calendar\nhttps:
 //jewishnaples.org/calendar/beading-buddies-feb-18\n\nGreat Opportunity fo
 r Fun and Giving with Beading for Betterment\, now called Beading Buddies\
 n\nFor several years\, the Beading for Betterment project has been providi
 ng custom made special necklaces to be given to children at the Guadalupe 
 Center in Immokalee. They are distributed to children there so that they h
 ave a Mother’s Day gift to give to their mother\, grandmother\, or speci
 al woman in their life. In addition to the children at the Guadalupe Cente
 r\, necklaces have been distributed to...
DTSTART;TZID=America/New_York:20250218T123000
DTEND;TZID=America/New_York:20250218T153000
END:VEVENT
END:VCALENDAR
