BEGIN:VCALENDAR
PRODID:-//eluceo/ical//2.0/EN
VERSION:2.0
CALSCALE:GREGORIAN
BEGIN:VEVENT
UID:e363bcb329616b45030638cbfff90a21
DTSTAMP:20260424T011506Z
SUMMARY:BBYO Weekly Meeting
DESCRIPTION:Jewish Federation of Greater Naples\nCommunity Calendar\nhttps:
 //jewishnaples.org/calendar/bbyo-weekly-meeting-1574274404\n\nBBYO meets w
 eekly at the Jewish Federation. Each week the program varies from leadersh
 ip training\, new member training\, planning local weekend programming\, s
 ports competitions\, etc. Come join the fun. BBYO membership is not requir
 ed and the programs are open to all Jewish 8th-12th graders in Naples and 
 Fort Myers.
DTSTART;TZID=America/New_York:20191120T183000
DTEND;TZID=America/New_York:20191120T200000
END:VEVENT
END:VCALENDAR
