BEGIN:VCALENDAR
PRODID:-//eluceo/ical//2.0/EN
VERSION:2.0
CALSCALE:GREGORIAN
BEGIN:VEVENT
UID:43770abffad85fa1bba6d65c1e431131
DTSTAMP:20260420T205155Z
SUMMARY:BBYO Teen and Parent Information Night
DESCRIPTION:Jewish Federation of Greater Naples\nCommunity Calendar\nhttps:
 //jewishnaples.org/calendar/bbyo-teen-and-parent-information-night-1764012
 282\n\nInformational session for BBYO Naples for teens and parents
DTSTART;TZID=America/New_York:20251218T180000
DTEND;TZID=America/New_York:20251218T200000
END:VEVENT
END:VCALENDAR
