BEGIN:VCALENDAR
PRODID:-//eluceo/ical//2.0/EN
VERSION:2.0
CALSCALE:GREGORIAN
BEGIN:VEVENT
UID:788be7ae118998c62b2c74c5a05db7a8
DTSTAMP:20260421T185450Z
SUMMARY:BBYO Regional Convention
DESCRIPTION:Jewish Federation of Greater Naples\nCommunity Calendar\nhttps:
 //jewishnaples.org/calendar/bbyo-regional-convention\n\nBBYO\n\nRegional C
 onvention
DTSTART;TZID=America/New_York:20180126T150000
DTEND;TZID=America/New_York:20180126T170000
END:VEVENT
END:VCALENDAR
