BEGIN:VCALENDAR
PRODID:-//eluceo/ical//2.0/EN
VERSION:2.0
CALSCALE:GREGORIAN
BEGIN:VEVENT
UID:7674a5365dbc0949893046ae7e88dcd3
DTSTAMP:20260422T012701Z
SUMMARY:BBYO Party
DESCRIPTION:Jewish Federation of Greater Naples\nCommunity Calendar\nhttps:
 //jewishnaples.org/calendar/bbyo-party\n\nBBYO
DTSTART;TZID=America/New_York:20170115T123000
DTEND;TZID=America/New_York:20170115T123000
END:VEVENT
END:VCALENDAR
