BEGIN:VCALENDAR
PRODID:-//eluceo/ical//2.0/EN
VERSION:2.0
CALSCALE:GREGORIAN
BEGIN:VEVENT
UID:957c7a903f73f4744359c0ecd8732f77
DTSTAMP:20260423T052121Z
SUMMARY:BBYO Connect Games
DESCRIPTION:Jewish Federation of Greater Naples\nCommunity Calendar\nhttps:
 //jewishnaples.org/calendar/bbyo-connect-games\n\nBBYO
DTSTART;TZID=America/New_York:20161009T130000
DTEND;TZID=America/New_York:20161009T130000
END:VEVENT
END:VCALENDAR
