BEGIN:VCALENDAR
PRODID:-//eluceo/ical//2.0/EN
VERSION:2.0
CALSCALE:GREGORIAN
BEGIN:VEVENT
UID:2ed1a0e49dbefda72826468abaa48ac7
DTSTAMP:20260424T061626Z
SUMMARY:BBYO Brunch
DESCRIPTION:Jewish Federation of Greater Naples\nCommunity Calendar\nhttps:
 //jewishnaples.org/calendar/bbyo-brunch-2\n\nBBYO Brunch
DTSTART;TZID=America/New_York:20181209T133000
DTEND;TZID=America/New_York:20181209T153000
END:VEVENT
END:VCALENDAR
