BEGIN:VCALENDAR
PRODID:-//eluceo/ical//2.0/EN
VERSION:2.0
CALSCALE:GREGORIAN
BEGIN:VEVENT
UID:dbb0b0b19909c0df9b522511210f825a
DTSTAMP:20260422T224319Z
SUMMARY:BBYO Board Meeting Nov.
DESCRIPTION:Jewish Federation of Greater Naples\nCommunity Calendar\nhttps:
 //jewishnaples.org/calendar/bbyo-board-meeting-nov\n\nBBYO Board Meeting\n
 \nat JFCC
DTSTART;TZID=America/New_York:20161101T160000
DTEND;TZID=America/New_York:20161101T170000
END:VEVENT
END:VCALENDAR
