BEGIN:VCALENDAR
PRODID:-//eluceo/ical//2.0/EN
VERSION:2.0
CALSCALE:GREGORIAN
BEGIN:VEVENT
UID:13685a843a7d88380f0cb07da2c2df9b
DTSTAMP:20260424T121348Z
SUMMARY:BBYO Board Meeting Jan.
DESCRIPTION:Jewish Federation of Greater Naples\nCommunity Calendar\nhttps:
 //jewishnaples.org/calendar/bbyo-board-meeting-jan\n\nBBYO meets at the JF
 CC
DTSTART;TZID=America/New_York:20170103T100000
DTEND;TZID=America/New_York:20170103T100000
END:VEVENT
END:VCALENDAR
