BEGIN:VCALENDAR
PRODID:-//eluceo/ical//2.0/EN
VERSION:2.0
CALSCALE:GREGORIAN
BEGIN:VEVENT
UID:dad2639567e7289e1f10982dbd45cdef
DTSTAMP:20260424T013256Z
SUMMARY:Baseball Film
DESCRIPTION:Jewish Federation of Greater Naples\nCommunity Calendar\nhttps:
 //jewishnaples.org/calendar/baseball-film-1570469132\n\nCome watch an amaz
 ing Baseball film.\n\n$10 per person.\n\nIAC and MCA are TEAMing up for th
 is program.\n\nTickets can be purchased by calling: 239-263-4205
DTSTART;TZID=America/New_York:20200212T183000
DTEND;TZID=America/New_York:20200212T203000
END:VEVENT
END:VCALENDAR
