BEGIN:VCALENDAR
PRODID:-//eluceo/ical//2.0/EN
VERSION:2.0
CALSCALE:GREGORIAN
BEGIN:VEVENT
UID:68ff472fba9a9555cf0369b6af63bd9a
DTSTAMP:20260424T084051Z
SUMMARY:Art Class with Lee
DESCRIPTION:Jewish Federation of Greater Naples\nCommunity Calendar\nhttps:
 //jewishnaples.org/calendar/art-class-with-lee-1721672799\n\nOil on Canvas
  Art Classes with Lee Kaye\n\nMondays from 1-3 pm\n$40 per 2 hour session\
 nRegister for 1 or all classes.\n\n \n\nBring favorite photo to copy on c
 anvas and bring the following supplies:\n\n \n\n•\nCopal medium (buy on
  Amazon)\n\n• Palette paper pad\n\n \n\nTurpentine\n•\nPaper towel\n
 •\nPaint brushes\n•\nOil paints: Yellow ochre\, white. Paynes grey\,cr
 imson \,blue\,Green \,burndt umber\n•\nTable easel\n-- all other supplie
 s can be purchased at Michael’s Art Store.\n...
DTSTART;TZID=America/New_York:20240930T130000
DTEND;TZID=America/New_York:20240930T150000
END:VEVENT
END:VCALENDAR
