BEGIN:VCALENDAR
PRODID:-//eluceo/ical//2.0/EN
VERSION:2.0
CALSCALE:GREGORIAN
BEGIN:VEVENT
UID:6641750ae10e6e8cd7bd2edf62949dd9
DTSTAMP:20260422T082135Z
SUMMARY:Art Class with Lee
DESCRIPTION:Jewish Federation of Greater Naples\nCommunity Calendar\nhttps:
 //jewishnaples.org/calendar/art-class-with-lee-1721669085\n\nOil on Canvas
  Art Classes with Lee Kaye\n\nMondays from 1-3 pm\n$40 per 2 hour session
 \nRegister for 1 or all classes. \n\n \n\nBring favorite photo to copy o
 n canvas and bring the following supplies:\n\n \n\n•\nCopal medium (buy
  on Amazon)\n\n• Palette paper pad\n\n \n\nTurpentine\n•\nPaper towel
 \n•\nPaint brushes\n•\nOil paints: Yellow ochre\, white. Paynes grey\,
 crimson \,blue\,Green \,burndt umber\n•\nTable easel\n-- all other suppl
 ies can be purchased at Michael’s Art Store...
DTSTART;TZID=America/New_York:20241209T130000
DTEND;TZID=America/New_York:20241209T150000
END:VEVENT
END:VCALENDAR
