BEGIN:VCALENDAR
PRODID:-//eluceo/ical//2.0/EN
VERSION:2.0
CALSCALE:GREGORIAN
BEGIN:VEVENT
UID:703ef87e1a781483dcf88f1d6c32ad85
DTSTAMP:20260422T065138Z
SUMMARY:Antisemitism: From Babi Yar to Our Backyards
DESCRIPTION:Jewish Federation of Greater Naples\nCommunity Calendar\nhttps:
 //jewishnaples.org/calendar/antisemitism-from-babi-yar-to-our-backyards-17
 53466652\n\nJewish Historical Society of SWFL presentation.\nOn this 84th 
 anniversary of Babi Yar mass murder of 33\,771 Kiev Jews by bullets\, we w
 ill examine why antisemitism did not disappear\, continues to perpetuate t
 he and the real threat it poses to each and every one of us.
DTSTART;TZID=America/New_York:20250929T150000
DTEND;TZID=America/New_York:20250929T160000
END:VEVENT
END:VCALENDAR
