BEGIN:VCALENDAR
PRODID:-//eluceo/ical//2.0/EN
VERSION:2.0
CALSCALE:GREGORIAN
BEGIN:VEVENT
UID:858486325d46330afb9a2c71c0666bb7
DTSTAMP:20260421T021756Z
SUMMARY:Antisemitism And Bigotry: How Prejudice is Expressed by Children K
 -12.
DESCRIPTION:Jewish Federation of Greater Naples\nCommunity Calendar\nhttps:
 //jewishnaples.org/calendar/antisemitism-and-bigotryhow-prejudice-is-expre
 ssed-by-children-k-12-1598300200\n\nADL Florida’s Empowering Our Childre
 n Webinar Series continues in September with a powerful and important webi
 nar on Antisemitism and Bigotry: How Prejudice is Expressed by Children 
 K-12 on September 8th at 7:30 pm .  Through two case studies\, partici
 pants will be able to understand how antisemitism and bias impact students
  and how parents and communities can advocate on behalf of their children.
  The webinar is free to attend.  \n\n
DTSTART;TZID=America/New_York:20200908T193000
DTEND;TZID=America/New_York:20200908T203000
END:VEVENT
END:VCALENDAR
