BEGIN:VCALENDAR
PRODID:-//eluceo/ical//2.0/EN
VERSION:2.0
CALSCALE:GREGORIAN
BEGIN:VEVENT
UID:65787fef9f4205275d656ee20b7ee539
DTSTAMP:20260420T134115Z
SUMMARY:Annual GenShoah of SWFL Members Potluck Brunch and Book Discussion
DESCRIPTION:Jewish Federation of Greater Naples\nCommunity Calendar\nhttps:
 //jewishnaples.org/calendar/annual-genshoah-of-swfl-members-potluck-brunch
 -and-book-discussion-1745606128\n\nThe annual GenShoah of SWFL Members Pot
 luck Brunch will be held at a member's home  on Sunday\, December 21 2025.
  This year's book discussion will be on "Hanna's Suitcase" by Karen Levine
 . You don't need to read the book prior to the brunch.  Reservation requir
 ed - email liebro@gmail.com. Location will be announced as the event gets 
 closer.
DTSTART;TZID=America/New_York:20251221T110000
DTEND;TZID=America/New_York:20251221T130000
END:VEVENT
END:VCALENDAR
