BEGIN:VCALENDAR
PRODID:-//eluceo/ical//2.0/EN
VERSION:2.0
CALSCALE:GREGORIAN
BEGIN:VEVENT
UID:20d72e3ab0065b62b47d744785c618d5
DTSTAMP:20260424T211634Z
SUMMARY:ANNUAL FLORIDA JEWISH HISTORY MONTH DAY II
DESCRIPTION:Jewish Federation of Greater Naples\nCommunity Calendar\nhttps:
 //jewishnaples.org/calendar/annual-florida-jewish-history-month-day-ii-177
 7045734\n\nANNUAL FLORIDA JEWISH HISTORY MONTH DAY II
DTSTART;TZID=America/New_York:20270129T110000
DTEND;TZID=America/New_York:20270129T124500
END:VEVENT
END:VCALENDAR
