BEGIN:VCALENDAR
PRODID:-//eluceo/ical//2.0/EN
VERSION:2.0
CALSCALE:GREGORIAN
BEGIN:VEVENT
UID:72d1a589058f26c043aa56f3b16f99bf
DTSTAMP:20260424T211954Z
SUMMARY:ANNUAL FLORIDA JEWISH HISTORY MONTH DAY I
DESCRIPTION:Jewish Federation of Greater Naples\nCommunity Calendar\nhttps:
 //jewishnaples.org/calendar/annual-florida-jewish-history-month-day-i-1777
 045537\n\nANNUAL FLORIDA JEWISH HISTORY MONTH DAY I
DTSTART;TZID=America/New_York:20270104T140000
DTEND;TZID=America/New_York:20270104T160000
END:VEVENT
END:VCALENDAR
