BEGIN:VCALENDAR
PRODID:-//eluceo/ical//2.0/EN
VERSION:2.0
CALSCALE:GREGORIAN
BEGIN:VEVENT
UID:2c41b3b6a501ffd381ef2b09e92ba4ab
DTSTAMP:20260422T181116Z
SUMMARY:Amb. Michael Oren
DESCRIPTION:Jewish Federation of Greater Naples\nCommunity Calendar\nhttps:
 //jewishnaples.org/calendar/amb-michael-oren-1723730597\n\nYou are invited
  on Thursday\, September 12 at 2:00 PM\n\nNina Iser Jewish Cultural Center
 \n\n \n\nAmbassador Michael Oren\n\n \n\n \n\nAmbassador Michael Oren w
 ill be in Naples\, FL and we are inviting you to join us at a community ev
 ent. Ambassador Oren served as the Israeli Ambassador to the US from 2009-
 2013. Following that\, he served as a Member of Knesset (MP) and was Deput
 y Minister of Diplomacy in the Prime Minister's Office. He has authored se
 veral New York Times bestsellers includin...
DTSTART;TZID=America/New_York:20240912T140000
DTEND;TZID=America/New_York:20240912T160000
END:VEVENT
END:VCALENDAR
