BEGIN:VCALENDAR
PRODID:-//eluceo/ical//2.0/EN
VERSION:2.0
CALSCALE:GREGORIAN
BEGIN:VEVENT
UID:42c0f101699bee6474dbecd68502c5f7
DTSTAMP:20260422T174652Z
SUMMARY:JCMI Alter Eagles Concert
DESCRIPTION:Jewish Federation of Greater Naples\nCommunity Calendar\nhttps:
 //jewishnaples.org/calendar/alter-eagles-1620917351\n\nTAKE IT TO THE LIMI
 T WITH THE ALTER EAGLES - MOST AUTHENTIC REPRESENTATION OF THE EAGLES\n\nA
 LTER EAGLES have two different prices: priority seating at $38.00 and regu
 lar seating $28.00
DTSTART;TZID=America/New_York:20220219T193000
DTEND;TZID=America/New_York:20220219T213000
END:VEVENT
END:VCALENDAR
