BEGIN:VCALENDAR
PRODID:-//eluceo/ical//2.0/EN
VERSION:2.0
CALSCALE:GREGORIAN
BEGIN:VEVENT
UID:86795a2730f5759c1fad0f04a8f4e9bf
DTSTAMP:20260422T114906Z
SUMMARY:Alta Rockers Music Concert
DESCRIPTION:Jewish Federation of Greater Naples\nCommunity Calendar\nhttps:
 //jewishnaples.org/calendar/alta-rockers-music-concert\n\nJewish Unity Thr
 ough Song 2.0 With The Alta Rockers\n\nBy: Felicia Anchor\, Program Commit
 tee Member\n\nAlta Rockers shine a light on Jewish singer-songwriters for 
 all to savor. \n\n \n\nThis year’s singalong will feature extraordinar
 y songs from Jewish singer-songwriters. Many will be familiar but for some
  the MOT connection may pleasantly surprise you too. (MOT is Members Of th
 e Tribe)\n\n \n\nThe Alta Rockers is a group of vintage men who find fell
 owship playing music from their youth....
DTSTART;TZID=America/New_York:20250105T163000
DTEND;TZID=America/New_York:20250105T173000
END:VEVENT
END:VCALENDAR
