BEGIN:VCALENDAR
PRODID:-//eluceo/ical//2.0/EN
VERSION:2.0
CALSCALE:GREGORIAN
BEGIN:VEVENT
UID:bc9502428454d467244ce82cbd153b1e
DTSTAMP:20260420T022336Z
SUMMARY:AIPAC's Naples Community Briefing
DESCRIPTION:Jewish Federation of Greater Naples\nCommunity Calendar\nhttps:
 //jewishnaples.org/calendar/aipacs-naples-community-briefing-1463693742\n\
 nNaples Community Briefing with speakers Eric Danko\, Daniel Frankenstein 
 and Yossi Siegel\n\nMiddle East Briefing
DTSTART;TZID=America/New_York:20170123T190000
DTEND;TZID=America/New_York:20170123T210000
END:VEVENT
END:VCALENDAR
