BEGIN:VCALENDAR
PRODID:-//eluceo/ical//2.0/EN
VERSION:2.0
CALSCALE:GREGORIAN
BEGIN:VEVENT
UID:c09e3b75076609018eed9ae97da8d8e5
DTSTAMP:20260423T200605Z
SUMMARY:ADL Walk Against Hate
DESCRIPTION:Jewish Federation of Greater Naples\nCommunity Calendar\nhttps:
 //jewishnaples.org/calendar/adl-walk-against-hate-1600372876\n\nJoin ADL's
  Virtual Walk Against Hate! This year's Walk will bring together entire co
 mmunities across the country including families\, students and educators\,
  corporations and non-profits and all others who want to stand up to hate.
 \n\nMake your voice heard on Sunday\, October 18th\, 2020 at 12pm ET by jo
 ining ADL's Virtual Walk Against Hate!  \nRegistration is free\, though 
 we encourage you to consider fundraising to advance ADL's mission "to stop
  the defamation of the Jewish people and secure ...
DTSTART;TZID=America/New_York:20201018T120000
DTEND;TZID=America/New_York:20201018T130000
END:VEVENT
END:VCALENDAR
