BEGIN:VCALENDAR
PRODID:-//eluceo/ical//2.0/EN
VERSION:2.0
CALSCALE:GREGORIAN
BEGIN:VEVENT
UID:af7829f21ca58fe837040bf1cf10d64c
DTSTAMP:20260420T132021Z
SUMMARY:ADL Florida Webinar: Standing Up To Hate
DESCRIPTION:Jewish Federation of Greater Naples\nCommunity Calendar\nhttps:
 //jewishnaples.org/calendar/adl-florida-webinar-standing-up-to-hate-159984
 7280\n\nOn this month’s webinar\, we will review of anti-Semitic inciden
 ts and what to do when hate becomes violent. Learn prevention\, awareness\
 , and reaction skills to an active threat situation.
DTSTART;TZID=America/New_York:20201013T193000
DTEND;TZID=America/New_York:20201013T203000
END:VEVENT
END:VCALENDAR
