BEGIN:VCALENDAR
PRODID:-//eluceo/ical//2.0/EN
VERSION:2.0
CALSCALE:GREGORIAN
BEGIN:VEVENT
UID:e2c984705b3089353c1edbad38de877c
DTSTAMP:20260420T122642Z
SUMMARY:JFGN A DAY AT ROOKERY BAY
DESCRIPTION:Jewish Federation of Greater Naples\nCommunity Calendar\nhttps:
 //jewishnaples.org/calendar/a-day-at-rookery-bay-1627322181\n\nEveryone is
  invited to hear a two hour docent led tour inside at Rookery Bay and then
 \, with their brought lunches\, and available snacks for purchase\, dine o
 utside on the trails and walk at their own pace.\n\nReservations $12 pp
DTSTART;TZID=America/New_York:20211008T103000
DTEND;TZID=America/New_York:20211008T123000
END:VEVENT
END:VCALENDAR
