BEGIN:VCALENDAR
PRODID:-//eluceo/ical//2.0/EN
VERSION:2.0
CALSCALE:GREGORIAN
BEGIN:VEVENT
UID:a31b148bb97ae17fefc6629d7ac7c1df
DTSTAMP:20260423T093150Z
SUMMARY:JNF A Cultural Journey into the Western Galilee
DESCRIPTION:Jewish Federation of Greater Naples\nCommunity Calendar\nhttps:
 //jewishnaples.org/calendar/a-cultural-journey-into-the-western-galilee-16
 24633496\n\nJoin Jewish National Fund-USA for a virtual tour of the Wester
 n Galilee. Led by Michal Shiloah Galnoor\, we will meet local artists\, sm
 all business owners\, and experience the sights and sounds of this magnifi
 cent region. 
DTSTART;TZID=America/New_York:20210720T210000
DTEND;TZID=America/New_York:20210720T230000
END:VEVENT
END:VCALENDAR
