BEGIN:VCALENDAR
PRODID:-//eluceo/ical//2.0/EN
VERSION:2.0
CALSCALE:GREGORIAN
BEGIN:VEVENT
UID:5b7a276e70a9625c7afa6fd9ed66c67a
DTSTAMP:20260420T074331Z
SUMMARY:3rd Local Jewish History Film Festival Day 4
DESCRIPTION:Jewish Federation of Greater Naples\nCommunity Calendar\nhttps:
 //jewishnaples.org/calendar/3rd-local-jewish-history-film-festival-day-4-1
 715283542\n\n3rd Local Jewish History Film Festival Day 4
DTSTART;TZID=America/New_York:20241204T150000
DTEND;TZID=America/New_York:20241204T170000
END:VEVENT
END:VCALENDAR
