BEGIN:VCALENDAR
PRODID:-//eluceo/ical//2.0/EN
VERSION:2.0
CALSCALE:GREGORIAN
BEGIN:VEVENT
UID:beea644fc00c5870c7faffa5d3832d3b
DTSTAMP:20260419T211123Z
SUMMARY:3rd Local Jewish History Film Festival Day 3
DESCRIPTION:Jewish Federation of Greater Naples\nCommunity Calendar\nhttps:
 //jewishnaples.org/calendar/3rd-local-jewish-history-film-festival-day-3-1
 715283411\n\n3rd Local Jewish History Film Festival Day 3
DTSTART;TZID=America/New_York:20241119T150000
DTEND;TZID=America/New_York:20241119T170000
END:VEVENT
END:VCALENDAR
