BEGIN:VCALENDAR
PRODID:-//eluceo/ical//2.0/EN
VERSION:2.0
CALSCALE:GREGORIAN
BEGIN:VEVENT
UID:93d393ef759f498820c1589188e8aa89
DTSTAMP:20260423T104830Z
SUMMARY:2020 ADL In Concert Against Hate
DESCRIPTION:Jewish Federation of Greater Naples\nCommunity Calendar\nhttps:
 //jewishnaples.org/calendar/2020-adl-in-concert-against-hate-1604513047\n\
 nJoin ADL Florida for an Unforgettable Evening On Sunday\, December 6\, 20
 20\, 8 pm ADL supporters from across the country will come together to cel
 ebrate ordinary people who performed extraordinary acts of courage\, compa
 ssion and strength when confronted by hatred and bigotry.   Each year\,
  these stories are told through musical performances and dramatic reenactm
 ents by acclaimed actors at The Kennedy Center in Washington\, DC.This yea
 r\, we invite you to our first virtual ADL In Concert Agai...
DTSTART;TZID=America/New_York:20201206T200000
DTEND;TZID=America/New_York:20201206T210000
END:VEVENT
END:VCALENDAR
